BEGIN:VCALENDAR

VERSION:2.0

PRODID:-//hacksw/handcal//NONSGML v1.0//EN

BEGIN:VEVENT

UID:29d89660c5784cb13a4a44d7acdf9438

DTSTAMP:20260421T090216Z

DTSTART:20260307T110000

DTEND:20260307T111500

SUMMARY: - 

LOCATION:

END:VEVENT

END:VCALENDAR